BEGIN:VCALENDAR
VERSION:2.0
PRODID:-//The Bristol - ECPv6.15.18//NONSGML v1.0//EN
CALSCALE:GREGORIAN
METHOD:PUBLISH
X-WR-CALNAME:The Bristol
X-ORIGINAL-URL:https://thebristol.com.au
X-WR-CALDESC:Events for The Bristol
REFRESH-INTERVAL;VALUE=DURATION:PT1H
X-Robots-Tag:noindex
X-PUBLISHED-TTL:PT1H
BEGIN:VTIMEZONE
TZID:Australia/Sydney
BEGIN:STANDARD
TZOFFSETFROM:+1100
TZOFFSETTO:+1000
TZNAME:AEST
DTSTART:20250405T160000
END:STANDARD
BEGIN:DAYLIGHT
TZOFFSETFROM:+1000
TZOFFSETTO:+1100
TZNAME:AEDT
DTSTART:20251004T160000
END:DAYLIGHT
BEGIN:STANDARD
TZOFFSETFROM:+1100
TZOFFSETTO:+1000
TZNAME:AEST
DTSTART:20260404T160000
END:STANDARD
BEGIN:DAYLIGHT
TZOFFSETFROM:+1000
TZOFFSETTO:+1100
TZNAME:AEDT
DTSTART:20261003T160000
END:DAYLIGHT
BEGIN:STANDARD
TZOFFSETFROM:+1100
TZOFFSETTO:+1000
TZNAME:AEST
DTSTART:20270403T160000
END:STANDARD
BEGIN:DAYLIGHT
TZOFFSETFROM:+1000
TZOFFSETTO:+1100
TZNAME:AEDT
DTSTART:20271002T160000
END:DAYLIGHT
END:VTIMEZONE
BEGIN:VEVENT
DTSTART;TZID=Australia/Sydney:20260425T000000
DTEND;TZID=Australia/Sydney:20260425T235959
DTSTAMP:20260423T015853
CREATED:20260325T040738Z
LAST-MODIFIED:20260325T040738Z
UID:10016225-1777075200-1777161599@thebristol.com.au
SUMMARY:RETRO SATURDAYS
DESCRIPTION:Retro Saturdays are back on Level 1 at The Bristol. \nJoin us as we rewind the clock with throwback anthems from the 80s\, 90s and 00s\, remixed for the dancefloor and guaranteed to get the whole room singing along. \n90s Drink Prices Happy Hour / 9pm til’ 10pm\n$15 Cocktails\n$6 Smirnoff Mixers\n$6 Smirnoff Crush Cans \nDoors open 9PM\nLevel 1 – The Bristol\n81 Sussex St\, Sydney \nWe’ll see you on the dancefloor. \nGUESTLIST\nVIP PACKAGES
URL:https://thebristol.com.au/whats-on/retro-saturdays/2026-04-25/
CATEGORIES:Retro Nightclub
ATTACH;FMTTYPE=image/jpeg:https://thebristol.com.au/wp-content/uploads/sites/8/2026/03/DSC02269-scaled.jpg
END:VEVENT
BEGIN:VEVENT
DTSTART;TZID=Australia/Sydney:20260501T000000
DTEND;TZID=Australia/Sydney:20260501T235959
DTSTAMP:20260423T015853
CREATED:20260325T040224Z
LAST-MODIFIED:20260325T040224Z
UID:10016220-1777593600-1777679999@thebristol.com.au
SUMMARY:HOUSE OF ZIM X RETRO
DESCRIPTION:Ladies\, 35+\nFri May 01 is for you… \nFinding a good night out used to be hard\, but not anymore…\nMusic you know and love\, a crowd you can relate to and dancing that kicks off early\, because\, let’s face it\, we’ve all got stuff to do the next day. \nNEXT EVENT: Fri May 01\, 6-10PM\nWe’re taking over Retro Nightclub at The Bristol on Sussex Street; \nThis one will be 4 hours of women 35+ owning the dancefloor \nA Female DJ playing 90s and 2000s house\, pop + R&B (scroll down for Spotify playlists) \nDance under a ceiling positively heaving with disco balls \nThe kind of night you can’t stop talking about. \nBUY TICKETS
URL:https://thebristol.com.au/whats-on/house-of-zim-x-retro/
CATEGORIES:Retro Nightclub
ATTACH;FMTTYPE=image/jpeg:https://thebristol.com.au/wp-content/uploads/sites/8/2026/03/4.jpg
END:VEVENT
BEGIN:VEVENT
DTSTART;TZID=Australia/Sydney:20260509T000000
DTEND;TZID=Australia/Sydney:20260509T235959
DTSTAMP:20260423T015853
CREATED:20260422T013026Z
LAST-MODIFIED:20260422T013026Z
UID:10016484-1778284800-1778371199@thebristol.com.au
SUMMARY:90S HOUSE PARTY
DESCRIPTION:We’re throwing a 90s House Party at Retro\, Saturday May 9. \nJoin us for a one-night-only throwback party inspired by the chaos of a classic 90s house party\, packed with club anthems\, red cups and wall-to-wall nostalgia. \nMain Room Soundtrack\n90s party bangers all night \nGames Room from 8pm\nPlayStation\nWii\nTwister\nDance mat comp \n90s Drink Prices Happy Hour / 9pm til’ 10pm\n$15 Cocktails\n$6 Smirnoff Mixers\n$6 Smirnoff Crush Cans \nDoors open 8pm / Free entry\nLevel 1 – The Bristol\n81 Sussex St\, Sydney \nText the group chat\, and we’ll see you at the party. \nGUESTLIST
URL:https://thebristol.com.au/whats-on/90s-house-party/
CATEGORIES:Retro Nightclub
ATTACH;FMTTYPE=image/jpeg:https://thebristol.com.au/wp-content/uploads/sites/8/2026/04/@sinanbeytas.photography-49-scaled.jpg
END:VEVENT
END:VCALENDAR